BEGIN:VCALENDAR
VERSION:2.0
PRODID:-//CERN//INDICO//EN
BEGIN:VEVENT
SUMMARY:NT.ES: Nuclear Theory in Spain I
DTSTART:20260527T221000Z
DTEND:20260529T150000Z
DTSTAMP:20260424T022400Z
UID:indico-event-751@indico.icc.ub.edu
CONTACT:samuel.giuliani@csic.es\;arnau.rios@fqa.ub.edu
DESCRIPTION:Speakers: Samuel Giuliani (IEM\, CSIC)\n\nThe NT.ES 26: Nucle
 ar Theory in Spain Workshop will take place in Madrid on May 28-29\, 2026.
 \nThis workshop brings together the Nuclear Theory community in Spain\, to
  discuss the latest issues in the field and provide an update on the devel
 opments led by the national community. The workshop will feature presentat
 ions by each of the Spanish groups working on nuclear theory\, as well as 
 presentation by Early Career Researchers on the field. There will be no fe
 es. \n\nResearch topics include:\n\n\nNuclear structure\n\n\nNuclear rea
 ctions with strong and electroweak probes\n\nNuclear and hadron interactio
 ns\nMany-body methods for nuclear physics\n\n \n\nImportant dates: - Reg
 istration deadline:                      April 30\, 2026- Abstr
 act submission deadline:       May 15\, 2026There is no Registration f
 ee.\nOrganizationSamuel Giuliani (IEM-CSIC\, Chair)Arnau Rios (UB)Luis Rob
 ledo (UAM)José Manuel Udías (UCM)Bárbara Barrio Calvo (UCM\, Administra
 tive Staff)\n                          \nAcknowledgments\nTh
 is event is supported by the FNUC network funded by MICIU/AEI/10.13039/501
 100011033. \n\n\n\n \n\n\n\nhttps://indico.icc.ub.edu/event/751/
LOCATION:Sala de Grados\, Facultad de Ciencias Físicas (Universidad Compl
 utense de Madrid)
URL:https://indico.icc.ub.edu/event/751/
END:VEVENT
END:VCALENDAR
